BEGIN:VCALENDAR
METHOD:PUBLISH
PRODID:Microsoft Exchange Server 2010
VERSION:2.0
BEGIN:VTIMEZONE
TZID:tzone://Microsoft/Utc
BEGIN:STANDARD
DTSTART:16010101T000000
TZOFFSETFROM:+0000
TZOFFSETTO:+0000
END:STANDARD
BEGIN:DAYLIGHT
DTSTART:16010101T000000
TZOFFSETFROM:+0000
TZOFFSETTO:+0000
END:DAYLIGHT
END:VTIMEZONE
BEGIN:VEVENT
ORGANIZER;CN=Stefano Lombardi:mailto:stefano.lombardi@igalumni.it
ATTENDEE;ROLE=REQ-PARTICIPANT;PARTSTAT=NEEDS-ACTION;RSVP=TRUE;CN=Stefano Lo
 mbardi:mailto:stefano.lombardi@igalumni.it
ATTENDEE;ROLE=REQ-PARTICIPANT;PARTSTAT=NEEDS-ACTION;RSVP=TRUE;CN=Stefano Lo
 mbardi:mailto:stefano.lombardi@igalumni.it
ATTENDEE;ROLE=REQ-PARTICIPANT;PARTSTAT=NEEDS-ACTION;RSVP=TRUE;CN=Ciancio Fr
 ancesco:mailto:frciancio@gmail.com
ATTENDEE;ROLE=REQ-PARTICIPANT;PARTSTAT=NEEDS-ACTION;RSVP=TRUE;CN=Andrea Fer
 aco:mailto:andrea.feraco@igalumni.it
ATTENDEE;ROLE=REQ-PARTICIPANT;PARTSTAT=NEEDS-ACTION;RSVP=TRUE;CN=Arnone Azz
 urra Gaetana:mailto:azzurra.arnone@gmail.com
ATTENDEE;ROLE=REQ-PARTICIPANT;PARTSTAT=NEEDS-ACTION;RSVP=TRUE;CN=Guerriero 
 Francesca:mailto:francesca.guerriero@unical.it
ATTENDEE;ROLE=REQ-PARTICIPANT;PARTSTAT=NEEDS-ACTION;RSVP=TRUE;CN=Ceravolo A
 lessandro:mailto:alessandro.r.ceravolo@gmail.com
ATTENDEE;ROLE=REQ-PARTICIPANT;PARTSTAT=NEEDS-ACTION;RSVP=TRUE;CN=Daniela Os
 so:mailto:daniela.osso@igalumni.it
ATTENDEE;ROLE=REQ-PARTICIPANT;PARTSTAT=NEEDS-ACTION;RSVP=TRUE;CN=Antonio Ca
 nnistrà:mailto:antonio.cannistra@igalumni.it
ATTENDEE;ROLE=OPT-PARTICIPANT;PARTSTAT=NEEDS-ACTION;RSVP=TRUE;CN="Lombardi, 
 Stefano":mailto:stefano.lombardi@accenture.com
DESCRIPTION:\n_____________________________________________________________
 ___________________\nMicrosoft Teams meeting\nJoin: https://teams.microsof
 t.com/meet/3502858372504?p=LfXFfkHPF4G0a04Meq\nMeeting ID: 350 285 837 250
  4\nPasscode: Dp35R2zP\n________________________________\nNeed help?<https
 ://aka.ms/JoinTeamsMeeting?omkt=en-US> | System reference<https://teams.mi
 crosoft.com/l/meetup-join/19%3ameeting_M2ZlZTA5YjMtYjdlOS00YWU2LWFhODUtMTI
 3ZTNhOTBjNTkw%40thread.v2/0?context=%7b%22Tid%22%3a%2224c5be2a-d764-40c5-9
 975-82d08ae47d0e%22%2c%22Oid%22%3a%22145db318-a84b-4d8c-8027-430aaeb4fbf0%
 22%7d>\nFor organizers: Meeting options<https://teams.microsoft.com/meetin
 gOptions/?organizerId=145db318-a84b-4d8c-8027-430aaeb4fbf0&tenantId=24c5be
 2a-d764-40c5-9975-82d08ae47d0e&threadId=19_meeting_M2ZlZTA5YjMtYjdlOS00YWU
 2LWFhODUtMTI3ZTNhOTBjNTkw@thread.v2&messageId=0&language=en-US>\n_________
 _______________________________________________________________________\n\
 n
UID:040000008200E00074C5B7101A82E00800000000C0EECBFA5EC0DC01000000000000000
 010000000F910BC26F8A18B458A251F651407391B
SUMMARY:IG Alumni - InFormazione: Team e Speedy Coaching
DTSTART:20260422T163000Z
DTEND:20260422T173000Z
CLASS:PUBLIC
PRIORITY:5
DTSTAMP:20260416T061104Z
TRANSP:OPAQUE
STATUS:CONFIRMED
SEQUENCE:1
LOCATION:Microsoft Teams Meeting
X-MICROSOFT-CDO-BUSYSTATUS:BUSY
X-MICROSOFT-CDO-INTENDEDSTATUS:BUSY
X-MICROSOFT-CDO-ALLDAYEVENT:FALSE
X-MICROSOFT-CDO-IMPORTANCE:1
X-MICROSOFT-CDO-INSTTYPE:0
X-MICROSOFT-SKYPETEAMSMEETINGURL:https://teams.microsoft.com/l/meetup-join/
 19%3ameeting_M2ZlZTA5YjMtYjdlOS00YWU2LWFhODUtMTI3ZTNhOTBjNTkw%40thread.v2/
 0?context=%7b%22Tid%22%3a%2224c5be2a-d764-40c5-9975-82d08ae47d0e%22%2c%22O
 id%22%3a%22145db318-a84b-4d8c-8027-430aaeb4fbf0%22%7d
X-MICROSOFT-SCHEDULINGSERVICEUPDATEURL:https://api.scheduler.teams.microsof
 t.com/teams/24c5be2a-d764-40c5-9975-82d08ae47d0e/145db318-a84b-4d8c-8027-4
 30aaeb4fbf0/19_meeting_M2ZlZTA5YjMtYjdlOS00YWU2LWFhODUtMTI3ZTNhOTBjNTkw@th
 read.v2/0
X-MICROSOFT-SKYPETEAMSPROPERTIES:{"cid":"19:meeting_M2ZlZTA5YjMtYjdlOS00YWU
 2LWFhODUtMTI3ZTNhOTBjNTkw@thread.v2"\,"private":true\,"type":0\,"mid":0\,"
 rid":0\,"uid":null}
X-MICROSOFT-ONLINEMEETINGINFORMATION:{"OnlineMeetingChannelId":null\,"Onlin
 eMeetingProvider":3}
X-MICROSOFT-DONOTFORWARDMEETING:FALSE
X-MICROSOFT-DISALLOW-COUNTER:FALSE
X-MICROSOFT-LOCATIONS:[ { "DisplayName" : "Microsoft Teams Meeting"\, "Loca
 tionAnnotation" : ""\, "LocationSource" : 0\, "Unresolved" : false\, "Loca
 tionUri" : "" } ]
BEGIN:VALARM
DESCRIPTION:REMINDER
TRIGGER;RELATED=START:-PT15M
ACTION:DISPLAY
END:VALARM
END:VEVENT
END:VCALENDAR
