BEGIN:VCALENDAR
VERSION:2.0
PRODID:-//IG ALUMNI UNICAL - ECPv6.15.13.1//NONSGML v1.0//EN
CALSCALE:GREGORIAN
METHOD:PUBLISH
X-WR-CALNAME:IG ALUMNI UNICAL
X-ORIGINAL-URL:https://unical.igalumni.it
X-WR-CALDESC:Eventi per IG ALUMNI UNICAL
REFRESH-INTERVAL;VALUE=DURATION:PT1H
X-Robots-Tag:noindex
X-PUBLISHED-TTL:PT1H
BEGIN:VTIMEZONE
TZID:Europe/Rome
BEGIN:DAYLIGHT
TZOFFSETFROM:+0100
TZOFFSETTO:+0200
TZNAME:CEST
DTSTART:20230326T010000
END:DAYLIGHT
BEGIN:STANDARD
TZOFFSETFROM:+0200
TZOFFSETTO:+0100
TZNAME:CET
DTSTART:20231029T010000
END:STANDARD
BEGIN:DAYLIGHT
TZOFFSETFROM:+0100
TZOFFSETTO:+0200
TZNAME:CEST
DTSTART:20240331T010000
END:DAYLIGHT
BEGIN:STANDARD
TZOFFSETFROM:+0200
TZOFFSETTO:+0100
TZNAME:CET
DTSTART:20241027T010000
END:STANDARD
BEGIN:DAYLIGHT
TZOFFSETFROM:+0100
TZOFFSETTO:+0200
TZNAME:CEST
DTSTART:20250330T010000
END:DAYLIGHT
BEGIN:STANDARD
TZOFFSETFROM:+0200
TZOFFSETTO:+0100
TZNAME:CET
DTSTART:20251026T010000
END:STANDARD
END:VTIMEZONE
BEGIN:VEVENT
DTSTART;TZID=Europe/Rome:20241227T093000
DTEND;TZID=Europe/Rome:20241227T130000
DTSTAMP:20260420T150600
CREATED:20241206T065352Z
LAST-MODIFIED:20241223T141347Z
UID:13447-1735291800-1735304400@unical.igalumni.it
SUMMARY:Evento di Natale 2024
DESCRIPTION:Carissimi Soci e Colleghi\,\nil nostro Evento Plenario di Natale è sempre più vicino\, e siamo felici di annunciare alcune importanti novità per rendere questa giornata davvero speciale! \n– 📋 Iscrizioni aperte!\nAbbiamo creato un link dedicato per l’iscrizione: sarà possibile partecipare all’evento mattutino e fermarsi anche al rinfresco a pranzo!\nPer registrarsi cliccare qui. \n– 🔗 Evento LinkedIn attivo!\nAbbiamo creato una pagina evento su LinkedIn\, dove troverete tutte le informazioni aggiornate\, dettagli sul programma e potrete interagire con la nostra community. \n– ⭐ Ospite speciale: Siamo onorati di avere con noi il nostro socio e collega Alessandro Grosso\, un ospite d’eccezione che ci coinvolgerà parlandoci di tematiche importanti e di interesse per tutta la community IGAlumni. Un’opportunità unica per ispirarci e crescere insieme. \nNon vediamo l’ora di accogliervi il 27 dicembre alle ore 10.00 presso l’University Club dell’Università della Calabria. Continuate a seguirci per ulteriori dettagli e sorprese! 🎁
URL:https://unical.igalumni.it/evento/evento-di-natale-2024/
LOCATION:University Club (Cubo 25) UNICAL\, università della calabria University Club\, Rende\, CS\, 87036\, Italia
ATTACH;FMTTYPE=image/png:https://unical.igalumni.it/wp-content/uploads/2024/12/1733417622907.png
ORGANIZER;CN="Associazione IG Alumni Unical":MAILTO:info@igalumni.it
END:VEVENT
END:VCALENDAR