BEGIN:VCALENDAR
VERSION:2.0
PRODID:-//IG ALUMNI UNICAL - ECPv6.15.13.1//NONSGML v1.0//EN
CALSCALE:GREGORIAN
METHOD:PUBLISH
X-ORIGINAL-URL:https://unical.igalumni.it
X-WR-CALDESC:Eventi per IG ALUMNI UNICAL
REFRESH-INTERVAL;VALUE=DURATION:PT1H
X-Robots-Tag:noindex
X-PUBLISHED-TTL:PT1H
BEGIN:VTIMEZONE
TZID:Europe/Rome
BEGIN:DAYLIGHT
TZOFFSETFROM:+0100
TZOFFSETTO:+0200
TZNAME:CEST
DTSTART:20230326T010000
END:DAYLIGHT
BEGIN:STANDARD
TZOFFSETFROM:+0200
TZOFFSETTO:+0100
TZNAME:CET
DTSTART:20231029T010000
END:STANDARD
BEGIN:DAYLIGHT
TZOFFSETFROM:+0100
TZOFFSETTO:+0200
TZNAME:CEST
DTSTART:20240331T010000
END:DAYLIGHT
BEGIN:STANDARD
TZOFFSETFROM:+0200
TZOFFSETTO:+0100
TZNAME:CET
DTSTART:20241027T010000
END:STANDARD
BEGIN:DAYLIGHT
TZOFFSETFROM:+0100
TZOFFSETTO:+0200
TZNAME:CEST
DTSTART:20250330T010000
END:DAYLIGHT
BEGIN:STANDARD
TZOFFSETFROM:+0200
TZOFFSETTO:+0100
TZNAME:CET
DTSTART:20251026T010000
END:STANDARD
END:VTIMEZONE
BEGIN:VEVENT
DTSTART;TZID=Europe/Rome:20240613T190000
DTEND;TZID=Europe/Rome:20240613T210000
DTSTAMP:20260421T000349
CREATED:20240603T144922Z
LAST-MODIFIED:20240603T144922Z
UID:13342-1718305200-1718312400@unical.igalumni.it
SUMMARY:AperIG - 13 Giugno 2024
DESCRIPTION:Cari soci\,\ncon grande piacere annunciamo il ritorno dell’#AperIG\, ormai alla sua 5° edizione!\nSi tratta di un evento aperto ai soci e a tutti gli ingegneri gestionali interessati ad incontrarsi di persona per condividere esperienze ed opinioni\, ovviamente di fronte un aperitivo rinfrescante! \nL’evento si terrà simultaneamente giovedì 13 Giugno 2024 in quattro città: Bologna\, Cosenza\, Milano\, Roma. \nPer partecipare all’evento in una delle città a vostra scelta\, ci si può iscrivere ai seguenti link:\nBologna: https://rebrand.ly/AperIg_Bologna\nCosenza: https://rebrand.ly/AperIg_Cosenza\nMilano: https://rebrand.ly/AperIg_Milano\nRoma: https://rebrand.ly/AperIG_Roma \nDeadline iscrizione: Lunedì 10 Giugno 2024\nCome ogni anno\, vi aspettiamo numerosi!
URL:https://unical.igalumni.it/evento/aperig-13-giugno-2024/
LOCATION:Evento OnLine
ATTACH;FMTTYPE=image/jpeg:https://unical.igalumni.it/wp-content/uploads/2024/06/aperig-2024.jpg
ORGANIZER;CN="Associazione IG Alumni Unical":MAILTO:info@igalumni.it
END:VEVENT
END:VCALENDAR