BEGIN:VCALENDAR
VERSION:2.0
PRODID:-//IG ALUMNI UNICAL - ECPv6.15.13.1//NONSGML v1.0//EN
CALSCALE:GREGORIAN
METHOD:PUBLISH
X-WR-CALNAME:IG ALUMNI UNICAL
X-ORIGINAL-URL:https://unical.igalumni.it
X-WR-CALDESC:Eventi per IG ALUMNI UNICAL
REFRESH-INTERVAL;VALUE=DURATION:PT1H
X-Robots-Tag:noindex
X-PUBLISHED-TTL:PT1H
BEGIN:VTIMEZONE
TZID:Europe/Rome
BEGIN:DAYLIGHT
TZOFFSETFROM:+0100
TZOFFSETTO:+0200
TZNAME:CEST
DTSTART:20220327T010000
END:DAYLIGHT
BEGIN:STANDARD
TZOFFSETFROM:+0200
TZOFFSETTO:+0100
TZNAME:CET
DTSTART:20221030T010000
END:STANDARD
BEGIN:DAYLIGHT
TZOFFSETFROM:+0100
TZOFFSETTO:+0200
TZNAME:CEST
DTSTART:20230326T010000
END:DAYLIGHT
BEGIN:STANDARD
TZOFFSETFROM:+0200
TZOFFSETTO:+0100
TZNAME:CET
DTSTART:20231029T010000
END:STANDARD
BEGIN:DAYLIGHT
TZOFFSETFROM:+0100
TZOFFSETTO:+0200
TZNAME:CEST
DTSTART:20240331T010000
END:DAYLIGHT
BEGIN:STANDARD
TZOFFSETFROM:+0200
TZOFFSETTO:+0100
TZNAME:CET
DTSTART:20241027T010000
END:STANDARD
END:VTIMEZONE
BEGIN:VEVENT
DTSTART;TZID=Europe/Rome:20230512T190000
DTEND;TZID=Europe/Rome:20230512T210000
DTSTAMP:20260422T055047
CREATED:20230418T164901Z
LAST-MODIFIED:20230511T065743Z
UID:12891-1683918000-1683925200@unical.igalumni.it
SUMMARY:AperIG 2023
DESCRIPTION:Dopo il grande successo riscosso negli ultimi anni\, IG Alumni ha il piacere di presentare la quarta edizione di #AperIG\, un evento creato per fare networking fra i soci e tutti gli IG che vogliono saperne di più su questa community.⁣\n⁣\nIl 12 maggio 2023 si terranno simultaneamente in quattro città italiane: Roma\, Milano\, Cosenza e da quest’anno anche Bologna\, città nella quale abbiamo introdotto un nuovo Local Group vista la forte presenza di associati!\n⁣\nPer partecipare basta iscriversi ad uno dei seguenti link in base alla location che preferite:\n⁣Bologna – Impero – Caprarie – Via Caprarie\, 4/e\, 40124 Bologna BO – Orario: 18:45 – Costo: 14 € (drink + buffet)\nCosenza – Cubo Restaurant Cafè – Piazza Molicelle Unical\, 87036 Rende CS – Orario: 18.45\nMilano – The Grace Club – Via Messina 38\, Milano MI (Fermata MM5 Cenisio) – Orario: 19:45\nRoma – TBAR – Via ostiense 182/a\, Roma – Orario: 18:45
URL:https://unical.igalumni.it/evento/aperig2023/
ATTACH;FMTTYPE=image/jpeg:https://unical.igalumni.it/wp-content/uploads/2023/04/aperIG_2023.jpeg
ORGANIZER;CN="Associazione IG Alumni Unical":MAILTO:info@igalumni.it
END:VEVENT
END:VCALENDAR