BEGIN:VCALENDAR
VERSION:2.0
PRODID:-//IG ALUMNI UNICAL - ECPv6.15.13.1//NONSGML v1.0//EN
CALSCALE:GREGORIAN
METHOD:PUBLISH
X-WR-CALNAME:IG ALUMNI UNICAL
X-ORIGINAL-URL:https://unical.igalumni.it
X-WR-CALDESC:Eventi per IG ALUMNI UNICAL
REFRESH-INTERVAL;VALUE=DURATION:PT1H
X-Robots-Tag:noindex
X-PUBLISHED-TTL:PT1H
BEGIN:VTIMEZONE
TZID:Europe/Rome
BEGIN:DAYLIGHT
TZOFFSETFROM:+0100
TZOFFSETTO:+0200
TZNAME:CEST
DTSTART:20200329T010000
END:DAYLIGHT
BEGIN:STANDARD
TZOFFSETFROM:+0200
TZOFFSETTO:+0100
TZNAME:CET
DTSTART:20201025T010000
END:STANDARD
BEGIN:DAYLIGHT
TZOFFSETFROM:+0100
TZOFFSETTO:+0200
TZNAME:CEST
DTSTART:20210328T010000
END:DAYLIGHT
BEGIN:STANDARD
TZOFFSETFROM:+0200
TZOFFSETTO:+0100
TZNAME:CET
DTSTART:20211031T010000
END:STANDARD
BEGIN:DAYLIGHT
TZOFFSETFROM:+0100
TZOFFSETTO:+0200
TZNAME:CEST
DTSTART:20220327T010000
END:DAYLIGHT
BEGIN:STANDARD
TZOFFSETFROM:+0200
TZOFFSETTO:+0100
TZNAME:CET
DTSTART:20221030T010000
END:STANDARD
END:VTIMEZONE
BEGIN:VEVENT
DTSTART;TZID=Europe/Rome:20211227T110000
DTEND;TZID=Europe/Rome:20211227T130000
DTSTAMP:20260420T225756
CREATED:20211222T152837Z
LAST-MODIFIED:20211226T105755Z
UID:12197-1640602800-1640610000@unical.igalumni.it
SUMMARY:Evento plenario di Natale
DESCRIPTION:
URL:https://unical.igalumni.it/evento/evento-plenario-di-natale/
LOCATION:Casa della Musica\, Casa della musica\, Piazza Giovanni Amendola\, Cosenza\, Cosenza\, 87100\, Italia
ATTACH;FMTTYPE=image/jpeg:https://unical.igalumni.it/wp-content/uploads/2021/12/igalumni_dic_2021.jpeg
ORGANIZER;CN="Associazione IG Alumni Unical":MAILTO:info@igalumni.it
END:VEVENT
END:VCALENDAR