BEGIN:VCALENDAR
VERSION:2.0
PRODID:-//IG ALUMNI UNICAL - ECPv6.15.13.1//NONSGML v1.0//EN
CALSCALE:GREGORIAN
METHOD:PUBLISH
X-WR-CALNAME:IG ALUMNI UNICAL
X-ORIGINAL-URL:https://unical.igalumni.it
X-WR-CALDESC:Eventi per IG ALUMNI UNICAL
REFRESH-INTERVAL;VALUE=DURATION:PT1H
X-Robots-Tag:noindex
X-PUBLISHED-TTL:PT1H
BEGIN:VTIMEZONE
TZID:Europe/Rome
BEGIN:DAYLIGHT
TZOFFSETFROM:+0100
TZOFFSETTO:+0200
TZNAME:CEST
DTSTART:20230326T010000
END:DAYLIGHT
BEGIN:STANDARD
TZOFFSETFROM:+0200
TZOFFSETTO:+0100
TZNAME:CET
DTSTART:20231029T010000
END:STANDARD
BEGIN:DAYLIGHT
TZOFFSETFROM:+0100
TZOFFSETTO:+0200
TZNAME:CEST
DTSTART:20240331T010000
END:DAYLIGHT
BEGIN:STANDARD
TZOFFSETFROM:+0200
TZOFFSETTO:+0100
TZNAME:CET
DTSTART:20241027T010000
END:STANDARD
BEGIN:DAYLIGHT
TZOFFSETFROM:+0100
TZOFFSETTO:+0200
TZNAME:CEST
DTSTART:20250330T010000
END:DAYLIGHT
BEGIN:STANDARD
TZOFFSETFROM:+0200
TZOFFSETTO:+0100
TZNAME:CET
DTSTART:20251026T010000
END:STANDARD
BEGIN:DAYLIGHT
TZOFFSETFROM:+0100
TZOFFSETTO:+0200
TZNAME:CEST
DTSTART:20260329T010000
END:DAYLIGHT
BEGIN:STANDARD
TZOFFSETFROM:+0200
TZOFFSETTO:+0100
TZNAME:CET
DTSTART:20261025T010000
END:STANDARD
BEGIN:DAYLIGHT
TZOFFSETFROM:+0100
TZOFFSETTO:+0200
TZNAME:CEST
DTSTART:20270328T010000
END:DAYLIGHT
BEGIN:STANDARD
TZOFFSETFROM:+0200
TZOFFSETTO:+0100
TZNAME:CET
DTSTART:20271031T010000
END:STANDARD
END:VTIMEZONE
BEGIN:VEVENT
DTSTART;TZID=Europe/Rome:20241011T190000
DTEND;TZID=Europe/Rome:20241011T210000
DTSTAMP:20260421T031235
CREATED:20241006T195758Z
LAST-MODIFIED:20241006T195816Z
UID:13364-1728673200-1728680400@unical.igalumni.it
SUMMARY:AperIG - 11 Ottobre 2024
DESCRIPTION:Cari Soci e Colleghi\, \nVi ricordiamo che Venerdì 11 ottobre 2024 si terrà l’AperIG nelle città: Cosenza\, Roma\, Bologna e Milano. Per questa edizione\, grazie alla vostra partecipazione\, comunichiamo con orgoglio l’ingresso di una nuova città: Reggio Calabria. \nDi seguito i link\, con maggiori dettagli sulle location\, per confermare la vostra presenza: \nMilano: https://forms.gle/BX3C5DBDjeKFeMa2A\nBologna: https://forms.gle/rLBmTnHcaWpQATvg9\nRoma: https://forms.gle/4zNPEBMvhidrh7p8A\nCosenza: https://forms.gle/NQsT4V344H1cX26E8\nReggio Calabria: https://forms.gle/bbS72DMnbNcfNfQZ8 \nGrazie a tutti per la calorosa partecipazione\, Ci vediamo presto all’AperIG!
URL:https://unical.igalumni.it/evento/aperig-11-ottobre-2024/
ATTACH;FMTTYPE=image/jpeg:https://unical.igalumni.it/wp-content/uploads/2024/10/1728042377293.jpeg
ORGANIZER;CN="Associazione IG Alumni Unical":MAILTO:info@igalumni.it
END:VEVENT
BEGIN:VEVENT
DTSTART;TZID=Europe/Rome:20241107T200000
DTEND;TZID=Europe/Rome:20241107T220000
DTSTAMP:20260421T031235
CREATED:20241028T193144Z
LAST-MODIFIED:20241101T170218Z
UID:13412-1731009600-1731016800@unical.igalumni.it
SUMMARY:AperIG - 7 Novembre 2024
DESCRIPTION:Cari amici e colleghi\,\n\n\nNon vogliamo fermarci più! \nGrazie al vostro entusiasmo e partecipazione ai nostri eventi dal vivo e online\, siamo entusiasti di proporre il terzo AperIG annuale. \n\n\n Quando? Giovedì 7 novembre!\n Dove? Milano\, Roma\, Cosenza!\n\n\nPer questo evento\, abbiamo deciso di accogliere i vostri suggerimenti sull’orario e sul tipo di serata. Sarà un apericena che consentirà a tutti i soci di trascorrere la serata insieme e rafforzare il nostro senso di community! \n\n\n Ecco i consueti form di iscrizione\, con tutte le info necessarie:\n– Milano: https://forms.gle/Wb4jfQqQYfpFfbxv7\n– Roma: https://forms.gle/nQZVwVrWTRh319q78\n– Cosenza: https://forms.gle/3huGywwNv7HtsWt16\n\n\nI dettagli su luoghi e orari definitivi verranno comunicati successivamente sui nostri canali social e sui Local Group.\nVi aspettiamo numerosi!\n\n\nPs: Stay tuned! L’evento plenario di Dicembre è in preparazione…!
URL:https://unical.igalumni.it/evento/aperig-7-novembre-2024/
ATTACH;FMTTYPE=image/jpeg:https://unical.igalumni.it/wp-content/uploads/2024/10/1730135590219.jpeg
ORGANIZER;CN="Associazione IG Alumni Unical":MAILTO:info@igalumni.it
END:VEVENT
BEGIN:VEVENT
DTSTART;TZID=Europe/Rome:20241227T093000
DTEND;TZID=Europe/Rome:20241227T130000
DTSTAMP:20260421T031235
CREATED:20241206T065352Z
LAST-MODIFIED:20241223T141347Z
UID:13447-1735291800-1735304400@unical.igalumni.it
SUMMARY:Evento di Natale 2024
DESCRIPTION:Carissimi Soci e Colleghi\,\nil nostro Evento Plenario di Natale è sempre più vicino\, e siamo felici di annunciare alcune importanti novità per rendere questa giornata davvero speciale! \n– 📋 Iscrizioni aperte!\nAbbiamo creato un link dedicato per l’iscrizione: sarà possibile partecipare all’evento mattutino e fermarsi anche al rinfresco a pranzo!\nPer registrarsi cliccare qui. \n– 🔗 Evento LinkedIn attivo!\nAbbiamo creato una pagina evento su LinkedIn\, dove troverete tutte le informazioni aggiornate\, dettagli sul programma e potrete interagire con la nostra community. \n– ⭐ Ospite speciale: Siamo onorati di avere con noi il nostro socio e collega Alessandro Grosso\, un ospite d’eccezione che ci coinvolgerà parlandoci di tematiche importanti e di interesse per tutta la community IGAlumni. Un’opportunità unica per ispirarci e crescere insieme. \nNon vediamo l’ora di accogliervi il 27 dicembre alle ore 10.00 presso l’University Club dell’Università della Calabria. Continuate a seguirci per ulteriori dettagli e sorprese! 🎁
URL:https://unical.igalumni.it/evento/evento-di-natale-2024/
LOCATION:University Club (Cubo 25) UNICAL\, università della calabria University Club\, Rende\, CS\, 87036\, Italia
ATTACH;FMTTYPE=image/png:https://unical.igalumni.it/wp-content/uploads/2024/12/1733417622907.png
ORGANIZER;CN="Associazione IG Alumni Unical":MAILTO:info@igalumni.it
END:VEVENT
BEGIN:VEVENT
DTSTART;TZID=Europe/Rome:20250116T200000
DTEND;TZID=Europe/Rome:20250116T220000
DTSTAMP:20260421T031235
CREATED:20250109T210113Z
LAST-MODIFIED:20250109T210113Z
UID:13478-1737057600-1737064800@unical.igalumni.it
SUMMARY:AperIG - 16 Gennaio 2025
DESCRIPTION:Primo AperIG 2025: ci vediamo a Milano\, Roma e Cosenza. \n16 Gennaio: tre aperitivi in contemporanea in tre città\, la community IG Alumni UniCal si ritrova. \n👉 Scegli il tuo AperIG: \n– Cosenza – London Caffè\, Viale della Resistenza\,13\, Rende – Iscriviti qui\n– Roma – La Cannoleria Siciliana\, Corso Trieste 100\, Roma – Iscriviti qui\n– Milano – Le Jardin Wine\, Via S.Maurilio\, 4\, Milano – Iscriviti qui
URL:https://unical.igalumni.it/evento/aperig-16-gennaio-2025/
ATTACH;FMTTYPE=image/jpeg:https://unical.igalumni.it/wp-content/uploads/2025/01/1736452040505.jpeg
ORGANIZER;CN="Associazione IG Alumni Unical":MAILTO:info@igalumni.it
END:VEVENT
BEGIN:VEVENT
DTSTART;TZID=Europe/Rome:20250130T190000
DTEND;TZID=Europe/Rome:20250130T210000
DTSTAMP:20260421T031235
CREATED:20250129T105934Z
LAST-MODIFIED:20250129T105934Z
UID:13497-1738263600-1738270800@unical.igalumni.it
SUMMARY:Assemblea Generale 2025
DESCRIPTION:È con entusiasmo che annunciamo la prima assemblea generale dell’anno: un’occasione preziosa per ritrovarci e confrontarci sul futuro della nostra community. \nL’incontro si aprirà con un momento di networking e condivisione\, per poi proseguire con la nomina delle nuove cariche associative e la formazione dei gruppi operativi. Definiremo insieme il modello operativo per le prossime iniziative\, concludendo con la pianificazione delle attività future. \nUn’opportunità per incontrarsi\, conoscersi e essere parte attiva dell’evoluzione della nostra community. \n📅 Data: 30/01/2025\n⏰ Ora: 19:00\n📍 Link Assemblea: clicca qui. \n 
URL:https://unical.igalumni.it/evento/assemblea-generale-2025/
ATTACH;FMTTYPE=image/jpeg:https://unical.igalumni.it/wp-content/uploads/2025/01/1738145640580.jpeg
ORGANIZER;CN="Associazione IG Alumni Unical":MAILTO:info@igalumni.it
END:VEVENT
BEGIN:VEVENT
DTSTART;TZID=Europe/Rome:20250306T183000
DTEND;TZID=Europe/Rome:20250306T193000
DTSTAMP:20260421T031235
CREATED:20250224T183828Z
LAST-MODIFIED:20250224T183828Z
UID:13561-1741285800-1741289400@unical.igalumni.it
SUMMARY:In-Formazione - Logistica Urbana e Innovazione: un Viaggio tra Storia\, Tecnologia e Futuro - 6 Marzo 2025
DESCRIPTION:Cari Soci ed Amici\, \nSiamo entusiasti di inaugurare il nostro programma “In-Formazione” con un evento dedicato al futuro della logistica urbana. \n“Logistica Urbana e Innovazione: un Viaggio tra Storia\, Tecnologia e Futuro”\nIn questo primo appuntamento\, avremo l’onore di ospitare: \nProf. Roberto Musmanno (UNICAL)\nProf.ssa Annarita De Maio (UNICAL) \nEsploreremo insieme come le nuove tecnologie stanno rivoluzionando la logistica delle nostre città e il loro impatto sulla sostenibilità urbana. \nPer partecipare è necessario registrarsi cliccando qui. \nVi aspettiamo! \n\nRegistrati all’evento\n\n 
URL:https://unical.igalumni.it/evento/logista-urbana-e-innovazione-6-marzo-2025/
LOCATION:Evento OnLine
ATTACH;FMTTYPE=image/jpeg:https://unical.igalumni.it/wp-content/uploads/2025/02/WhatsApp-Image-2025-02-21-at-08.50.04.jpeg
ORGANIZER;CN="Associazione IG Alumni Unical":MAILTO:info@igalumni.it
END:VEVENT
BEGIN:VEVENT
DTSTART;TZID=Europe/Rome:20250327T183000
DTEND;TZID=Europe/Rome:20250327T193000
DTSTAMP:20260421T031235
CREATED:20250326T181026Z
LAST-MODIFIED:20250326T181026Z
UID:13603-1743100200-1743103800@unical.igalumni.it
SUMMARY:Assemblea Generale - 27 marzo 2025
DESCRIPTION:Il percorso del nuovo biennio è ormai avviato\, e dopo i primi incontri vogliamo continuare a costruire insieme un’associazione sempre più attiva\, inclusiva e orientata agli obiettivi comuni.\nTi invitiamo quindi a partecipare alla prossima assemblea generale\, che si terrà giovedì 27 marzo 2025 alle ore 18:30 su Microsoft Teams.\nSarà un momento utile per fare il punto sugli sviluppi in corso\, condividere i piani operativi e rafforzare il coinvolgimento di tutti nei diversi stream di attività. \nAgenda dell’incontro:  \n\nApertura e conferma obiettivi 2025–26\nPresentazione Stream e piani operativi\nQ&A\nVarie ed eventuali\n\nLa partecipazione è fondamentale per dare continuità\, voce e forza alla nostra comunità. Per partecipare\, all’ora dell’incontro clicca qui. \n📅 Data: 27/03/2025\n⏰ Ora: 18:30\n📍 Link Assemblea: clicca qui. \n 
URL:https://unical.igalumni.it/evento/assemblea-generale-27-marzo-2025/
ATTACH;FMTTYPE=image/jpeg:https://unical.igalumni.it/wp-content/uploads/2025/03/Assemblea-Generale-27-marzo-2025.jpeg
ORGANIZER;CN="Associazione IG Alumni Unical":MAILTO:info@igalumni.it
END:VEVENT
BEGIN:VEVENT
DTSTART;TZID=Europe/Rome:20250414T183000
DTEND;TZID=Europe/Rome:20250414T193000
DTSTAMP:20260421T031235
CREATED:20250403T165141Z
LAST-MODIFIED:20250403T165141Z
UID:13608-1744655400-1744659000@unical.igalumni.it
SUMMARY:In-Formazione - AI e Generative AI: Rivoluzione o Evoluzione? – dialogo con il Prof. Georg Gottlob - 14 Aprile 2025
DESCRIPTION:Da Oxford all’UniCal: al prossimo evento di InFormazione il nostro ospite speciale sarà il Prof. Georg Gottlob. \nGeorg Gottlob ha ricoperto il ruolo di Professor of Computer Science presso l’Oxford University dal 2006 al 2023\, quando è stato nominato Professore Ordinario all’Università della Calabria. È riconosciuto a livello internazionale come uno dei massimi esperti di intelligenza artificiale\, grazie al suo contributo sia nella ricerca che in campo applicativo. \nDurante l’evento\, il Prof. Gottlob ci guiderà in un affascinante approfondimento su Artificial Intelligence e GenerativeAI\, temi in continua evoluzione che stanno trasformando il nostro modo di percepire e interagire con la realtà. \nAvremo l’opportunità di proporre domande e spunti di riflessione da discutere durante l’incontro\, moderato dal nostro Stefano Lombardi. \nPer registrarsi e proporre le vostre domande\, basta cliccare qui. \nVi aspettiamo! \n\nRegistrati all’evento\n\n 
URL:https://unical.igalumni.it/evento/in-formazione-ai-e-generative-ai-rivoluzione-o-evoluzione-dialogo-con-il-prof-georg-gottlob-14-aprile-2025/
LOCATION:Evento OnLine
ATTACH;FMTTYPE=image/jpeg:https://unical.igalumni.it/wp-content/uploads/2025/04/InFormazione-Gottlob.jpeg
ORGANIZER;CN="Associazione IG Alumni Unical":MAILTO:info@igalumni.it
END:VEVENT
BEGIN:VEVENT
DTSTART;TZID=Europe/Rome:20250715T200000
DTEND;TZID=Europe/Rome:20250715T220000
DTSTAMP:20260421T031235
CREATED:20250711T184609Z
LAST-MODIFIED:20250711T185037Z
UID:13720-1752609600-1752616800@unical.igalumni.it
SUMMARY:Serata Conviviale - 15 Luglio 2025
DESCRIPTION:Un invito per te: serata conviviale il 15 luglio a Cosenza\n\n\nSiamo felici di invitarti a una serata conviviale per ritrovarci e condividere insieme una buona pizza.\nUn’occasione per rivederci\, scambiare idee e trascorrere del tempo in compagnia. \n📅 Data: Martedì 15 luglio\n🕗 Orario: 20:00\n📍 Luogo: doppiOzero – via Enrico Fermi 28\, Rende (CS) \n👉Ti chiediamo gentilmente di confermare la tua presenza compilando questo breve modulo: https://forms.office.com/e/cqvW5dyHED. \nTi aspettiamo con piacere! \nUn caro saluto dal team IG Alumni Unical.
URL:https://unical.igalumni.it/evento/serata-conviviale-15-luglio-2025/
ATTACH;FMTTYPE=image/jpeg:https://unical.igalumni.it/wp-content/uploads/2024/12/1735318712309.jpeg
ORGANIZER;CN="Associazione IG Alumni Unical":MAILTO:info@igalumni.it
END:VEVENT
BEGIN:VEVENT
DTSTART;TZID=Europe/Rome:20250812T200000
DTEND;TZID=Europe/Rome:20250812T220000
DTSTAMP:20260421T031235
CREATED:20250805T122530Z
LAST-MODIFIED:20250805T122530Z
UID:13736-1755028800-1755036000@unical.igalumni.it
SUMMARY:Summer IG - 12 Agosto 2025
DESCRIPTION:🍕 Rimpatriata Estiva IG Alumni\n\n\nQuest’estate abbiamo voglia di rivederci!\nAbbiamo pensato a una serata semplice\, informale\, ma ricca di significato: una rimpatriata estiva targata IG Alumni Unical\, in una pizzeria sul mare. \n📌 L’idea?\nUna serata “pizza a Pizzo”\, tra vecchi amici\, nuovi volti e tante storie da raccontare.\nSe lo desideri potrai portare un accompagnatore o un’accompagnatrice. \n📅 12.08.2025\n🕗 20:00 \n👉 Per organizzare al meglio la serata\, ti chiediamo di compilare un breve questionario cliccando su “Partecipa”. \nSarà l’occasione perfetta per rivederci\, rafforzare la rete e passare del tempo di qualità insieme.\nTi aspettiamo! \nUn caro saluto\,\nIl team IG Alumni Unical \nPartecipa
URL:https://unical.igalumni.it/evento/summer-ig-12-agosto-2025/
ATTACH;FMTTYPE=image/jpeg:https://unical.igalumni.it/wp-content/uploads/2025/08/WhatsApp-Image-2025-08-04-at-14.38.45.jpeg
ORGANIZER;CN="Associazione IG Alumni Unical":MAILTO:info@igalumni.it
END:VEVENT
BEGIN:VEVENT
DTSTART;TZID=Europe/Rome:20251127T190000
DTEND;TZID=Europe/Rome:20251127T220000
DTSTAMP:20260421T031235
CREATED:20251120T183448Z
LAST-MODIFIED:20251120T183448Z
UID:13760-1764270000-1764280800@unical.igalumni.it
SUMMARY:AperIG - 27 Novembre 2025
DESCRIPTION:Due città\, una community: torna l’AperIG..\nChe tu sia un amico di sempre o un volto nuovo\, AperIG è il momento giusto per incontrarsi\, conoscersi e condividere un aperitivo insieme. \nRoma e Cosenza si collegano in contemporanea per un appuntamento che è diventato un punto di riferimento per chi fa parte di IG Alumni. \n📍 Roma | Cosenza 📅27 Novembre 2025 ore 19:00 \nFacci sapere che ci sei\, compila il form della tua città per aiutarci a organizzare al meglio l’evento\, il luogo verrà comunicato in seguito:\n🔗 Roma: clicca qui per partecipare\n🔗 Cosenza: clicca qui per partecipare \n 
URL:https://unical.igalumni.it/evento/aperig-27-novembre-2025/
ATTACH;FMTTYPE=image/jpeg:https://unical.igalumni.it/wp-content/uploads/2025/11/1763652726603.jpeg
ORGANIZER;CN="Associazione IG Alumni Unical":MAILTO:info@igalumni.it
END:VEVENT
BEGIN:VEVENT
DTSTART;TZID=Europe/Rome:20251227T093000
DTEND;TZID=Europe/Rome:20251227T130000
DTSTAMP:20260421T031235
CREATED:20251128T123445Z
LAST-MODIFIED:20251211T075215Z
UID:13767-1766827800-1766840400@unical.igalumni.it
SUMMARY:Evento di Natale 2025
DESCRIPTION:Siamo orgogliosi di annunciare che al consueto evento plenario di Natale che si terrà il prossimo 27 dicembre avremo l’onore di ospitare il Magnifico Rettore dell’Università della Calabria\, Prof. Gianluigi Greco. \nLa sua presenza rappresenta il legame profondo tra l’UniCal e la sua comunità di Alumni\, un ponte tra il percorso accademico che ci ha formati e i traguardi professionali che continuiamo a raggiungere nel mondo. \nUn momento significativo per celebrare insieme i valori e la visione che ci uniscono come IG Alumni Unical. \nTi aspettiamo il 27 Dicembre alle ore 9.30 presso l’University Club dell’Università della Calabria. \nPer rinnovare la partecipazione associativa per il 2026 e prenotare il tuo posto anche per il pranzo\, clicca su Partecipa. \nPartecipa
URL:https://unical.igalumni.it/evento/evento-di-natale-2025/
LOCATION:University Club (Cubo 25) UNICAL\, università della calabria University Club\, Rende\, CS\, 87036\, Italia
ATTACH;FMTTYPE=image/jpeg:https://unical.igalumni.it/wp-content/uploads/2025/11/1765375402850.jpeg
ORGANIZER;CN="Associazione IG Alumni Unical":MAILTO:info@igalumni.it
END:VEVENT
BEGIN:VEVENT
DTSTART;TZID=Europe/Rome:20260318T183000
DTEND;TZID=Europe/Rome:20260318T193000
DTSTAMP:20260421T031235
CREATED:20260310T070521Z
LAST-MODIFIED:20260310T070521Z
UID:14215-1773858600-1773862200@unical.igalumni.it
SUMMARY:In-Formazione - Team & Speedy Coaching - 18 Marzo 2026
DESCRIPTION:Il 18 marzo alle 18:30 parleremo di come migliorare le nostre competenze di coaching in un nuovo appuntamento del ciclo InFormazione. \nSarà anche una occasione per presentare il nuovo servizio SpeedyCoaching\, promosso da Francesco Ciancio\, coach certificato ICF\, e pensato per offrire ai membri dell’Associazione un supporto concreto nei momenti decisionali\,\nfavorire maggiore consapevolezza e trasformare il confronto in azione. \n📅 Mercoledì 18 marzo\, ore 18.30 💻 Online su Microsoft Teams. \nPer partecipare\, è necessario compilare il form di iscrizione. \n\nRegistrati all’evento\n\n 
URL:https://unical.igalumni.it/evento/in-formazione-team-speedy-coaching-18-marzo-2026/
LOCATION:Evento OnLine
ATTACH;FMTTYPE=image/jpeg:https://unical.igalumni.it/wp-content/uploads/2026/03/1773060378939.jpeg
ORGANIZER;CN="Associazione IG Alumni Unical":MAILTO:info@igalumni.it
END:VEVENT
BEGIN:VEVENT
DTSTART;TZID=Europe/Rome:20260422T183000
DTEND;TZID=Europe/Rome:20260422T193000
DTSTAMP:20260421T031235
CREATED:20260420T175728Z
LAST-MODIFIED:20260420T175728Z
UID:80687-1776882600-1776886200@unical.igalumni.it
SUMMARY:In-Formazione - Team & Speedy Coaching - 22 Aprile 2026
DESCRIPTION:Torna il nostro format #InFormazione: mercoledì 22 aprile avremo il piacere di ospitare Francesco Ciancio per un incontro interamente dedicato al Team & Speedy Coaching. \nSarà un confronto diretto e operativo\, pensato per fornire a neo-ingegneri e professionisti esperti strumenti concreti per gestire le dinamiche di squadra\, accelerare la propria carriera e portare valore reale nelle aziende. \nUn’altra preziosa occasione targata IG Alumni per fare rete\, ispirarsi a vicenda e creare un ponte concreto tra le competenze universitarie e le sfide quotidiane del mondo dell’impresa. \n📅 Quando: Mercoledì 22 aprile alle 18:30 \n📍 Dove: Online su Microsoft Teams (scarica qui il calendar con il link) \nPrenota il tuo posto tramite il pulsante qui sotto! 👇 \nTi aspettiamo online. \nIG ALUMNI UNICAL \n\nRegistrati all’evento\n\n 
URL:https://unical.igalumni.it/evento/in-formazione-team-speedy-coaching-22-aprile-2026/
LOCATION:Evento OnLine
ATTACH;FMTTYPE=image/jpeg:https://unical.igalumni.it/wp-content/uploads/2026/04/1776271816741.jpeg
ORGANIZER;CN="Associazione IG Alumni Unical":MAILTO:info@igalumni.it
END:VEVENT
END:VCALENDAR