BEGIN:VCALENDAR
VERSION:2.0
PRODID:-//IG ALUMNI UNICAL - ECPv6.15.13.1//NONSGML v1.0//EN
CALSCALE:GREGORIAN
METHOD:PUBLISH
X-WR-CALNAME:IG ALUMNI UNICAL
X-ORIGINAL-URL:https://unical.igalumni.it
X-WR-CALDESC:Eventi per IG ALUMNI UNICAL
REFRESH-INTERVAL;VALUE=DURATION:PT1H
X-Robots-Tag:noindex
X-PUBLISHED-TTL:PT1H
BEGIN:VTIMEZONE
TZID:Europe/Rome
BEGIN:DAYLIGHT
TZOFFSETFROM:+0100
TZOFFSETTO:+0200
TZNAME:CEST
DTSTART:20240331T010000
END:DAYLIGHT
BEGIN:STANDARD
TZOFFSETFROM:+0200
TZOFFSETTO:+0100
TZNAME:CET
DTSTART:20241027T010000
END:STANDARD
BEGIN:DAYLIGHT
TZOFFSETFROM:+0100
TZOFFSETTO:+0200
TZNAME:CEST
DTSTART:20250330T010000
END:DAYLIGHT
BEGIN:STANDARD
TZOFFSETFROM:+0200
TZOFFSETTO:+0100
TZNAME:CET
DTSTART:20251026T010000
END:STANDARD
BEGIN:DAYLIGHT
TZOFFSETFROM:+0100
TZOFFSETTO:+0200
TZNAME:CEST
DTSTART:20260329T010000
END:DAYLIGHT
BEGIN:STANDARD
TZOFFSETFROM:+0200
TZOFFSETTO:+0100
TZNAME:CET
DTSTART:20261025T010000
END:STANDARD
END:VTIMEZONE
BEGIN:VEVENT
DTSTART;TZID=Europe/Rome:20250306T183000
DTEND;TZID=Europe/Rome:20250306T193000
DTSTAMP:20260420T123932
CREATED:20250224T183828Z
LAST-MODIFIED:20250224T183828Z
UID:13561-1741285800-1741289400@unical.igalumni.it
SUMMARY:In-Formazione - Logistica Urbana e Innovazione: un Viaggio tra Storia\, Tecnologia e Futuro - 6 Marzo 2025
DESCRIPTION:Cari Soci ed Amici\, \nSiamo entusiasti di inaugurare il nostro programma “In-Formazione” con un evento dedicato al futuro della logistica urbana. \n“Logistica Urbana e Innovazione: un Viaggio tra Storia\, Tecnologia e Futuro”\nIn questo primo appuntamento\, avremo l’onore di ospitare: \nProf. Roberto Musmanno (UNICAL)\nProf.ssa Annarita De Maio (UNICAL) \nEsploreremo insieme come le nuove tecnologie stanno rivoluzionando la logistica delle nostre città e il loro impatto sulla sostenibilità urbana. \nPer partecipare è necessario registrarsi cliccando qui. \nVi aspettiamo! \n\nRegistrati all’evento\n\n 
URL:https://unical.igalumni.it/evento/logista-urbana-e-innovazione-6-marzo-2025/
LOCATION:Evento OnLine
ATTACH;FMTTYPE=image/jpeg:https://unical.igalumni.it/wp-content/uploads/2025/02/WhatsApp-Image-2025-02-21-at-08.50.04.jpeg
ORGANIZER;CN="Associazione IG Alumni Unical":MAILTO:info@igalumni.it
END:VEVENT
END:VCALENDAR