BEGIN:VCALENDAR
VERSION:2.0
PRODID:-//IG ALUMNI UNICAL - ECPv6.15.13.1//NONSGML v1.0//EN
CALSCALE:GREGORIAN
METHOD:PUBLISH
X-WR-CALNAME:IG ALUMNI UNICAL
X-ORIGINAL-URL:https://unical.igalumni.it
X-WR-CALDESC:Eventi per IG ALUMNI UNICAL
REFRESH-INTERVAL;VALUE=DURATION:PT1H
X-Robots-Tag:noindex
X-PUBLISHED-TTL:PT1H
BEGIN:VTIMEZONE
TZID:Europe/Rome
BEGIN:DAYLIGHT
TZOFFSETFROM:+0100
TZOFFSETTO:+0200
TZNAME:CEST
DTSTART:20230326T010000
END:DAYLIGHT
BEGIN:STANDARD
TZOFFSETFROM:+0200
TZOFFSETTO:+0100
TZNAME:CET
DTSTART:20231029T010000
END:STANDARD
BEGIN:DAYLIGHT
TZOFFSETFROM:+0100
TZOFFSETTO:+0200
TZNAME:CEST
DTSTART:20240331T010000
END:DAYLIGHT
BEGIN:STANDARD
TZOFFSETFROM:+0200
TZOFFSETTO:+0100
TZNAME:CET
DTSTART:20241027T010000
END:STANDARD
BEGIN:DAYLIGHT
TZOFFSETFROM:+0100
TZOFFSETTO:+0200
TZNAME:CEST
DTSTART:20250330T010000
END:DAYLIGHT
BEGIN:STANDARD
TZOFFSETFROM:+0200
TZOFFSETTO:+0100
TZNAME:CET
DTSTART:20251026T010000
END:STANDARD
END:VTIMEZONE
BEGIN:VEVENT
DTSTART;TZID=Europe/Rome:20241011T190000
DTEND;TZID=Europe/Rome:20241011T210000
DTSTAMP:20260420T190506
CREATED:20241006T195758Z
LAST-MODIFIED:20241006T195816Z
UID:13364-1728673200-1728680400@unical.igalumni.it
SUMMARY:AperIG - 11 Ottobre 2024
DESCRIPTION:Cari Soci e Colleghi\, \nVi ricordiamo che Venerdì 11 ottobre 2024 si terrà l’AperIG nelle città: Cosenza\, Roma\, Bologna e Milano. Per questa edizione\, grazie alla vostra partecipazione\, comunichiamo con orgoglio l’ingresso di una nuova città: Reggio Calabria. \nDi seguito i link\, con maggiori dettagli sulle location\, per confermare la vostra presenza: \nMilano: https://forms.gle/BX3C5DBDjeKFeMa2A\nBologna: https://forms.gle/rLBmTnHcaWpQATvg9\nRoma: https://forms.gle/4zNPEBMvhidrh7p8A\nCosenza: https://forms.gle/NQsT4V344H1cX26E8\nReggio Calabria: https://forms.gle/bbS72DMnbNcfNfQZ8 \nGrazie a tutti per la calorosa partecipazione\, Ci vediamo presto all’AperIG!
URL:https://unical.igalumni.it/evento/aperig-11-ottobre-2024/
ATTACH;FMTTYPE=image/jpeg:https://unical.igalumni.it/wp-content/uploads/2024/10/1728042377293.jpeg
ORGANIZER;CN="Associazione IG Alumni Unical":MAILTO:info@igalumni.it
END:VEVENT
END:VCALENDAR