BEGIN:VCALENDAR
VERSION:2.0
PRODID:-//IG ALUMNI UNICAL - ECPv6.15.13.1//NONSGML v1.0//EN
CALSCALE:GREGORIAN
METHOD:PUBLISH
X-WR-CALNAME:IG ALUMNI UNICAL
X-ORIGINAL-URL:https://unical.igalumni.it
X-WR-CALDESC:Eventi per IG ALUMNI UNICAL
REFRESH-INTERVAL;VALUE=DURATION:PT1H
X-Robots-Tag:noindex
X-PUBLISHED-TTL:PT1H
BEGIN:VTIMEZONE
TZID:Europe/Rome
BEGIN:DAYLIGHT
TZOFFSETFROM:+0100
TZOFFSETTO:+0200
TZNAME:CEST
DTSTART:20230326T010000
END:DAYLIGHT
BEGIN:STANDARD
TZOFFSETFROM:+0200
TZOFFSETTO:+0100
TZNAME:CET
DTSTART:20231029T010000
END:STANDARD
BEGIN:DAYLIGHT
TZOFFSETFROM:+0100
TZOFFSETTO:+0200
TZNAME:CEST
DTSTART:20240331T010000
END:DAYLIGHT
BEGIN:STANDARD
TZOFFSETFROM:+0200
TZOFFSETTO:+0100
TZNAME:CET
DTSTART:20241027T010000
END:STANDARD
BEGIN:DAYLIGHT
TZOFFSETFROM:+0100
TZOFFSETTO:+0200
TZNAME:CEST
DTSTART:20250330T010000
END:DAYLIGHT
BEGIN:STANDARD
TZOFFSETFROM:+0200
TZOFFSETTO:+0100
TZNAME:CET
DTSTART:20251026T010000
END:STANDARD
END:VTIMEZONE
BEGIN:VEVENT
DTSTART;TZID=Europe/Rome:20240306T190000
DTEND;TZID=Europe/Rome:20240306T200000
DTSTAMP:20260421T081934
CREATED:20240306T105351Z
LAST-MODIFIED:20240306T105351Z
UID:13306-1709751600-1709755200@unical.igalumni.it
SUMMARY:MentorIG - Kickoff Meeting
DESCRIPTION:Buongiorno cari Soci e amici\,\nSiamo lieti di annunciare che abbiamo raggiunto la prima Milestone formativa dell’anno! \nIl Percorso di Mentoring #MentorIg attraverso il quale i nostri soci più esperti accompagneranno soci desiderosi di imparare muove il suo primo passo oggi con il Kick Off meeting! \nQuesto non è un post di iscrizione\, ma di ringraziamento a tutti i soci che si sono messi in gioco come Mentors e come Mentee per incrementare non solo le loro competenze\, ma il senso di appartenenza della nostra community che è in continua espansione. \nPer chi si è iscritto: Appuntamento stasera alle 19:00!!
URL:https://unical.igalumni.it/evento/mentorid-kickoff-meeting/
LOCATION:Evento OnLine
ATTACH;FMTTYPE=image/jpeg:https://unical.igalumni.it/wp-content/uploads/2024/03/1709721480074.jpeg
ORGANIZER;CN="Associazione IG Alumni Unical":MAILTO:info@igalumni.it
END:VEVENT
END:VCALENDAR